BEGIN:VCALENDAR
VERSION:2.0
PRODID:-//ATLAS ABE - ECPv6.15.17.1//NONSGML v1.0//EN
CALSCALE:GREGORIAN
METHOD:PUBLISH
X-ORIGINAL-URL:https://atlasabe.org
X-WR-CALDESC:Events for ATLAS ABE
REFRESH-INTERVAL;VALUE=DURATION:PT1H
X-Robots-Tag:noindex
X-PUBLISHED-TTL:PT1H
BEGIN:VTIMEZONE
TZID:America/Chicago
BEGIN:DAYLIGHT
TZOFFSETFROM:-0600
TZOFFSETTO:-0500
TZNAME:CDT
DTSTART:20200308T080000
END:DAYLIGHT
BEGIN:STANDARD
TZOFFSETFROM:-0500
TZOFFSETTO:-0600
TZNAME:CST
DTSTART:20201101T070000
END:STANDARD
BEGIN:DAYLIGHT
TZOFFSETFROM:-0600
TZOFFSETTO:-0500
TZNAME:CDT
DTSTART:20210314T080000
END:DAYLIGHT
BEGIN:STANDARD
TZOFFSETFROM:-0500
TZOFFSETTO:-0600
TZNAME:CST
DTSTART:20211107T070000
END:STANDARD
BEGIN:DAYLIGHT
TZOFFSETFROM:-0600
TZOFFSETTO:-0500
TZNAME:CDT
DTSTART:20220313T080000
END:DAYLIGHT
BEGIN:STANDARD
TZOFFSETFROM:-0500
TZOFFSETTO:-0600
TZNAME:CST
DTSTART:20221106T070000
END:STANDARD
BEGIN:DAYLIGHT
TZOFFSETFROM:-0600
TZOFFSETTO:-0500
TZNAME:CDT
DTSTART:20230312T080000
END:DAYLIGHT
BEGIN:STANDARD
TZOFFSETFROM:-0500
TZOFFSETTO:-0600
TZNAME:CST
DTSTART:20231105T070000
END:STANDARD
BEGIN:DAYLIGHT
TZOFFSETFROM:-0600
TZOFFSETTO:-0500
TZNAME:CDT
DTSTART:20240310T080000
END:DAYLIGHT
BEGIN:STANDARD
TZOFFSETFROM:-0500
TZOFFSETTO:-0600
TZNAME:CST
DTSTART:20241103T070000
END:STANDARD
END:VTIMEZONE
BEGIN:VEVENT
DTSTART;TZID=America/Chicago:20230420T080000
DTEND;TZID=America/Chicago:20230422T170000
DTSTAMP:20260419T233111
CREATED:20220921T184414Z
LAST-MODIFIED:20230410T153354Z
UID:10001637-1681977600-1682182800@atlasabe.org
SUMMARY:MCTM 2023 Spring Conference
DESCRIPTION:Registration Deadline: THU. 4/13/23 \nCome learn from engaging presenters and network with teachers from K-12\, 2-year colleges\, and other ABE programs! \nConference Details \n\nDate: Friday\, April 21 – Saturday\, April 22\, 2022\nLocation: DECC in Duluth\, MN\nCost: $180 for general participants\, $100 for Lead Presenters\nDeadlines:\n\nApply for a scholarship from ATLAS by Thursday\, April 13 \nRegister for the conference by Thursday\, April 13\n\n\nMore Information: Visit the MCTM website\n\nScholarships: To help support Minnesota Adult Education practitioners to take advantage of this amazing opportunity\, ATLAS is again offering a number of scholarships for up to $750 each to help offset the cost of attending the conference. This scholarship can be used toward registration\, lodging\, and/or mileage/parking/transit. \nAPPLY FOR A SCHOLARSHIP >>
URL:https://atlasabe.org/event/mctm-2023-spring-conference/
LOCATION:DECC\, 350 Harbor Dr.\, Duluth\, MN\, 55802\, United States
END:VEVENT
BEGIN:VEVENT
DTSTART;TZID=America/Chicago:20220430T080000
DTEND;TZID=America/Chicago:20220430T180000
DTSTAMP:20260419T233111
CREATED:20220105T205819Z
LAST-MODIFIED:20220105T232035Z
UID:10001464-1651305600-1651341600@atlasabe.org
SUMMARY:MCTM 2022 Spring Conference
DESCRIPTION:Registration Deadline: WED. 4/20/22 \nThe theme of this year’s Minnesota Council of Teachers of Mathematics (MCTM) spring conference is Reunite and Ignite! Come learn from engaging presenters and network with teachers from K-12\, 2-year colleges\, and other ABE programs. \nConference Details \n\nDate: Saturday\, April 30\, 2022\nTime: 8:00am-6:00pm\nLocation: DECC in Duluth\, MN\nCost: $180 for general participants\, $100 for Lead Presenters\nDeadlines:\n\nApply for a scholarship by Friday\, April 1 \nRegister for the conference by Wednesday\, April 20\n\n\nMore Information: Visit the MCTM website\n\nScholarships: To help support Minnesota Adult Education practitioners to take advantage of this amazing opportunity\, ATLAS is again offering a number of scholarships for up to $750 each to help offset the cost of attending the conference. This scholarship can be used toward registration\, lodging\, and/or mileage/parking/transit. \n\nScholarship Application Deadline: FRI. 4/1/22\n\nAPPLY for a scholarship >>
URL:https://atlasabe.org/event/mctm-2022-spring-conference/
LOCATION:DECC\, 350 Harbor Dr.\, Duluth\, MN\, 55802\, United States
END:VEVENT
BEGIN:VEVENT
DTSTART;TZID=America/Chicago:20210416T170000
DTEND;TZID=America/Chicago:20210417T170000
DTSTAMP:20260419T233111
CREATED:20210301T210822Z
LAST-MODIFIED:20210301T211119Z
UID:10001184-1618592400-1618678800@atlasabe.org
SUMMARY:MCTM Spring 2021 Virtual Conference
DESCRIPTION:The theme of this year’s Minnesota Council of Teachers of Mathematics (MCTM) spring conference is Moving Forward. Come learn from engaging presenters and network with teachers from K-12\, 2-year colleges\, and other ABE programs. \nMore information can be found at the website listed in the Details section below. NOTE: The registration link for the conference is in the lower left corner of MCTM’s conference page. \nCost: $75 (or $50 for Lead Presenters) \nScholarships: To help support ABE practitioners from across Minnesota to take advantage of this amazing opportunity\, ATLAS is offering scholarships of $75 to cover the cost of attending this virtual conference. \n\nAPPLY for a scholarship >>
URL:https://atlasabe.org/event/mctm-spring-2021-virtual-conference/
LOCATION:Online
END:VEVENT
END:VCALENDAR